Package: ddPCRclust Version: 1.31.0 Command: /Library/Frameworks/R.framework/Resources/bin/R CMD check --install=check:ddPCRclust.install-out.txt --library=/Library/Frameworks/R.framework/Resources/library --no-vignettes --timings ddPCRclust_1.31.0.tar.gz StartedAt: 2025-11-16 19:26:53 -0500 (Sun, 16 Nov 2025) EndedAt: 2025-11-16 19:27:59 -0500 (Sun, 16 Nov 2025) EllapsedTime: 65.8 seconds RetCode: 0 Status: OK CheckDir: ddPCRclust.Rcheck Warnings: 0