Package: ddPCRclust Version: 1.31.0 Command: rm -rf ddPCRclust.buildbin-libdir && mkdir ddPCRclust.buildbin-libdir && /Users/biocbuild/BBS/utils/build-universal.sh ddPCRclust_1.31.0.tar.gz /Library/Frameworks/R.framework/Resources/bin/R ddPCRclust.buildbin-libdir StartedAt: 2025-11-14 23:29:36 -0500 (Fri, 14 Nov 2025) EndedAt: 2025-11-14 23:29:43 -0500 (Fri, 14 Nov 2025) EllapsedTime: 7.2 seconds RetCode: 0 Status: OK PackageFile: ddPCRclust_1.31.0.tgz PackageFileSize: 1.344 MiB