Package: ddCt Version: 1.67.0 Command: /Library/Frameworks/R.framework/Resources/bin/R CMD INSTALL ddCt StartedAt: 2025-11-26 15:26:40 -0500 (Wed, 26 Nov 2025) EndedAt: 2025-11-26 15:26:43 -0500 (Wed, 26 Nov 2025) EllapsedTime: 2.2 seconds RetCode: 0 Status: OK