Package: ddCt Version: 1.67.0 Command: /Library/Frameworks/R.framework/Resources/bin/R CMD build --keep-empty-dirs --no-resave-data ddCt StartedAt: 2025-11-26 16:05:53 -0500 (Wed, 26 Nov 2025) EndedAt: 2025-11-26 16:06:03 -0500 (Wed, 26 Nov 2025) EllapsedTime: 10.1 seconds RetCode: 0 Status: OK PackageFile: ddCt_1.67.0.tar.gz PackageFileSize: 781.4 KiB