Package: ddCt Version: 1.67.0 Command: rm -rf ddCt.buildbin-libdir && mkdir ddCt.buildbin-libdir && /Users/biocbuild/BBS/utils/build-universal.sh ddCt_1.67.0.tar.gz /Library/Frameworks/R.framework/Resources/bin/R ddCt.buildbin-libdir StartedAt: 2025-11-26 23:30:43 -0500 (Wed, 26 Nov 2025) EndedAt: 2025-11-26 23:30:47 -0500 (Wed, 26 Nov 2025) EllapsedTime: 4.1 seconds RetCode: 0 Status: OK PackageFile: ddCt_1.67.0.tgz PackageFileSize: 1.011 MiB