Package: dcanr Version: 1.27.0 Command: rm -rf dcanr.buildbin-libdir && mkdir dcanr.buildbin-libdir && /Users/biocbuild/BBS/utils/build-universal.sh dcanr_1.27.0.tar.gz /Library/Frameworks/R.framework/Resources/bin/R dcanr.buildbin-libdir StartedAt: 2025-11-13 23:34:23 -0500 (Thu, 13 Nov 2025) EndedAt: 2025-11-13 23:34:26 -0500 (Thu, 13 Nov 2025) EllapsedTime: 3.1 seconds RetCode: 0 Status: OK PackageFile: dcanr_1.27.0.tgz PackageFileSize: 1.837 MiB