Package: dcanr Version: 1.27.0 Maintainer: Dharmesh D. Bhuva MaintainerEmail: bhuva.d at wehi.edu.au git_url: https://git.bioconductor.org/packages/dcanr git_branch: devel git_last_commit: d3a5b3c git_last_commit_date: 2025-10-29 10:51:48 -0500 (Wed, 29 Oct 2025)