Package: dcGSA Version: 1.39.0 Command: /home/biocbuild/bbs-3.23-bioc/R/bin/R CMD build --keep-empty-dirs --no-resave-data dcGSA StartedAt: 2025-11-13 17:09:09 -0500 (Thu, 13 Nov 2025) EndedAt: 2025-11-13 17:09:10 -0500 (Thu, 13 Nov 2025) EllapsedTime: 1.0 seconds RetCode: 0 Status: OK PackageFile: dcGSA_1.39.0.tar.gz PackageFileSize: 37.42 KiB