Package: dcGSA Version: 1.39.0 Command: /Library/Frameworks/R.framework/Resources/bin/R CMD INSTALL dcGSA StartedAt: 2025-11-14 15:03:33 -0500 (Fri, 14 Nov 2025) EndedAt: 2025-11-14 15:03:36 -0500 (Fri, 14 Nov 2025) EllapsedTime: 3.5 seconds RetCode: 0 Status: OK