Package: dcGSA Version: 1.39.0 Command: rm -rf dcGSA.buildbin-libdir && mkdir dcGSA.buildbin-libdir && /Users/biocbuild/BBS/utils/build-universal.sh dcGSA_1.39.0.tar.gz /Library/Frameworks/R.framework/Resources/bin/R dcGSA.buildbin-libdir StartedAt: 2025-11-13 23:34:26 -0500 (Thu, 13 Nov 2025) EndedAt: 2025-11-13 23:34:29 -0500 (Thu, 13 Nov 2025) EllapsedTime: 3.1 seconds RetCode: 0 Status: OK PackageFile: dcGSA_1.39.0.tgz PackageFileSize: 51.98 KiB