Package: dcGSA Version: 1.39.0 Maintainer: Jiehuan sun MaintainerEmail: jiehuan.sun at yale.edu git_url: https://git.bioconductor.org/packages/dcGSA git_branch: devel git_last_commit: 7a6df68 git_last_commit_date: 2025-10-29 10:29:05 -0500 (Wed, 29 Oct 2025)