Package: dandelionR Version: 1.3.0 Command: /home/biocbuild/bbs-3.23-bioc/R/bin/R CMD INSTALL dandelionR StartedAt: 2025-11-13 15:55:08 -0500 (Thu, 13 Nov 2025) EndedAt: 2025-11-13 15:55:46 -0500 (Thu, 13 Nov 2025) EllapsedTime: 38.1 seconds RetCode: 0 Status: OK