Package: dandelionR Version: 1.3.0 Maintainer: Kelvin Tuong MaintainerEmail: z.tuong at uq.edu.au git_url: https://git.bioconductor.org/packages/dandelionR git_branch: devel git_last_commit: 29dd237 git_last_commit_date: 2025-10-29 11:34:23 -0500 (Wed, 29 Oct 2025)