Package: dagLogo Version: 1.49.0 Command: /Library/Frameworks/R.framework/Resources/bin/R CMD INSTALL dagLogo StartedAt: 2025-11-14 15:27:42 -0500 (Fri, 14 Nov 2025) EndedAt: 2025-11-14 15:28:01 -0500 (Fri, 14 Nov 2025) EllapsedTime: 18.9 seconds RetCode: 0 Status: OK