Package: dagLogo Version: 1.49.0 Command: rm -rf dagLogo.buildbin-libdir && mkdir dagLogo.buildbin-libdir && /Users/biocbuild/BBS/utils/build-universal.sh dagLogo_1.49.0.tar.gz /Library/Frameworks/R.framework/Resources/bin/R dagLogo.buildbin-libdir StartedAt: 2025-11-14 23:29:21 -0500 (Fri, 14 Nov 2025) EndedAt: 2025-11-14 23:29:44 -0500 (Fri, 14 Nov 2025) EllapsedTime: 22.5 seconds RetCode: 0 Status: OK PackageFile: dagLogo_1.49.0.tgz PackageFileSize: 3.491 MiB