Package: dada2 Version: 1.39.0 Command: /home/biocbuild/bbs-3.23-bioc/R/bin/R CMD INSTALL dada2 StartedAt: 2025-11-14 15:52:31 -0500 (Fri, 14 Nov 2025) EndedAt: 2025-11-14 15:53:54 -0500 (Fri, 14 Nov 2025) EllapsedTime: 82.4 seconds RetCode: 0 Status: OK