Package: dada2 Version: 1.39.0 Command: /home/biocbuild/bbs-3.23-bioc/R/bin/R CMD build --keep-empty-dirs --no-resave-data dada2 StartedAt: 2025-11-14 17:07:41 -0500 (Fri, 14 Nov 2025) EndedAt: 2025-11-14 17:09:26 -0500 (Fri, 14 Nov 2025) EllapsedTime: 105.1 seconds RetCode: 0 Status: OK PackageFile: dada2_1.39.0.tar.gz PackageFileSize: 2.752 MiB