Package: dStruct Version: 1.17.0 Command: /home/biocbuild/bbs-3.23-bioc/R/bin/R CMD INSTALL dStruct StartedAt: 2025-11-11 15:18:11 -0500 (Tue, 11 Nov 2025) EndedAt: 2025-11-11 15:18:13 -0500 (Tue, 11 Nov 2025) EllapsedTime: 2.6 seconds RetCode: 0 Status: OK