Package: dStruct Version: 1.17.0 Command: /Library/Frameworks/R.framework/Resources/bin/R CMD INSTALL dStruct StartedAt: 2025-11-12 15:22:56 -0500 (Wed, 12 Nov 2025) EndedAt: 2025-11-12 15:22:58 -0500 (Wed, 12 Nov 2025) EllapsedTime: 1.7 seconds RetCode: 0 Status: OK