Package: dStruct Version: 1.17.0 Maintainer: Krishna Choudhary MaintainerEmail: kchoudhary at ucdavis.edu git_url: https://git.bioconductor.org/packages/dStruct git_branch: devel git_last_commit: 705c1e3 git_last_commit_date: 2025-10-29 11:10:25 -0500 (Wed, 29 Oct 2025)