Package: cytomapper Version: 1.23.0 Command: /home/biocbuild/bbs-3.23-bioc/R/bin/R CMD INSTALL cytomapper StartedAt: 2025-11-11 15:39:47 -0500 (Tue, 11 Nov 2025) EndedAt: 2025-11-11 15:40:43 -0500 (Tue, 11 Nov 2025) EllapsedTime: 56.1 seconds RetCode: 0 Status: OK