Package: cytomapper Version: 1.23.0 Command: /home/biocbuild/bbs-3.23-bioc/R/bin/R CMD build --keep-empty-dirs --no-resave-data cytomapper StartedAt: 2025-11-13 17:06:17 -0500 (Thu, 13 Nov 2025) EndedAt: 2025-11-13 17:07:54 -0500 (Thu, 13 Nov 2025) EllapsedTime: 97.1 seconds RetCode: 0 Status: OK PackageFile: cytomapper_1.23.0.tar.gz PackageFileSize: 20.96 MiB