Package: cytomapper Version: 1.23.0 Command: /Library/Frameworks/R.framework/Resources/bin/R CMD build --keep-empty-dirs --no-resave-data cytomapper StartedAt: 2025-11-13 16:07:03 -0500 (Thu, 13 Nov 2025) EndedAt: 2025-11-13 16:07:43 -0500 (Thu, 13 Nov 2025) EllapsedTime: 40.5 seconds RetCode: 0 Status: OK PackageFile: cytomapper_1.23.0.tar.gz PackageFileSize: 21.49 MiB