Package: cytomapper Version: 1.23.0 Maintainer: Lasse Meyer MaintainerEmail: lasse.meyer at dqbm.uzh.ch git_url: https://git.bioconductor.org/packages/cytomapper git_branch: devel git_last_commit: 20338b5 git_last_commit_date: 2025-10-29 10:57:59 -0500 (Wed, 29 Oct 2025)