Package: cytolib Version: 2.23.0 Command: /home/biocbuild/bbs-3.23-bioc/R/bin/R CMD INSTALL cytolib StartedAt: 2025-11-11 15:11:46 -0500 (Tue, 11 Nov 2025) EndedAt: 2025-11-11 15:14:24 -0500 (Tue, 11 Nov 2025) EllapsedTime: 158.5 seconds RetCode: 0 Status: OK