Package: cytolib Version: 2.23.0 Command: /Library/Frameworks/R.framework/Resources/bin/R CMD INSTALL cytolib StartedAt: 2025-11-12 15:16:39 -0500 (Wed, 12 Nov 2025) EndedAt: 2025-11-12 15:16:46 -0500 (Wed, 12 Nov 2025) EllapsedTime: 6.5 seconds RetCode: 1 Status: ERROR