############################################################################## ############################################################################## ### ### Running command: ### ### /Library/Frameworks/R.framework/Resources/bin/R CMD INSTALL cytolib ### ############################################################################## ############################################################################## * installing to library ‘/Library/Frameworks/R.framework/Versions/4.6-arm64/Resources/library’ ERROR: dependencies ‘RProtoBufLib’, ‘Rhdf5lib’ are not available for package ‘cytolib’ Perhaps try a variation of: install.packages(c('RProtoBufLib', 'Rhdf5lib')) * removing ‘/Library/Frameworks/R.framework/Versions/4.6-arm64/Resources/library/cytolib’