############################################################################## ############################################################################## ### ### Running command: ### ### /Library/Frameworks/R.framework/Resources/bin/R CMD build --keep-empty-dirs --no-resave-data cytolib ### ############################################################################## ############################################################################## * checking for file ‘cytolib/DESCRIPTION’ ... OK * preparing ‘cytolib’: * checking DESCRIPTION meta-information ... OK * cleaning src * running ‘cleanup’ * installing the package (it is needed to build vignettes) ----------------------------------- ERROR: dependencies ‘RProtoBufLib’, ‘Rhdf5lib’ are not available for package ‘cytolib’ Perhaps try a variation of: install.packages(c('RProtoBufLib', 'Rhdf5lib')) * removing ‘/private/var/folders/r0/l4fjk6cj5xj0j3brt4bplpl40000gt/T/RtmpFaxmCS/Rinst137393e670856/cytolib’ ----------------------------------- ERROR: package installation failed