Package: cytolib Version: 2.23.0 Maintainer: Mike Jiang MaintainerEmail: mike at ozette.com git_url: https://git.bioconductor.org/packages/cytolib git_branch: devel git_last_commit: 7752793 git_last_commit_date: 2025-10-29 10:40:14 -0500 (Wed, 29 Oct 2025)