Package: cytoKernel Version: 1.17.0 Command: /home/biocbuild/bbs-3.23-bioc/R/bin/R CMD build --keep-empty-dirs --no-resave-data cytoKernel StartedAt: 2025-11-13 17:06:02 -0500 (Thu, 13 Nov 2025) EndedAt: 2025-11-13 17:06:46 -0500 (Thu, 13 Nov 2025) EllapsedTime: 44.0 seconds RetCode: 0 Status: OK PackageFile: cytoKernel_1.17.0.tar.gz PackageFileSize: 710.2 KiB