Package: cytoKernel Version: 1.17.0 Command: /Library/Frameworks/R.framework/Resources/bin/R CMD build --keep-empty-dirs --no-resave-data cytoKernel StartedAt: 2025-11-13 16:06:52 -0500 (Thu, 13 Nov 2025) EndedAt: 2025-11-13 16:07:10 -0500 (Thu, 13 Nov 2025) EllapsedTime: 18.2 seconds RetCode: 0 Status: OK PackageFile: cytoKernel_1.17.0.tar.gz PackageFileSize: 705.6 KiB