Package: cytoKernel Version: 1.17.0 Command: rm -rf cytoKernel.buildbin-libdir && mkdir cytoKernel.buildbin-libdir && /Users/biocbuild/BBS/utils/build-universal.sh cytoKernel_1.17.0.tar.gz /Library/Frameworks/R.framework/Resources/bin/R cytoKernel.buildbin-libdir StartedAt: 2025-11-13 23:34:06 -0500 (Thu, 13 Nov 2025) EndedAt: 2025-11-13 23:34:21 -0500 (Thu, 13 Nov 2025) EllapsedTime: 15.3 seconds RetCode: 0 Status: OK PackageFile: cytoKernel_1.17.0.tgz PackageFileSize: 843.2 KiB