Package: cytoKernel Version: 1.17.0 Maintainer: Tusharkanti Ghosh MaintainerEmail: tusharkantighosh30 at gmail.com git_url: https://git.bioconductor.org/packages/cytoKernel git_branch: devel git_last_commit: 25ec3e0 git_last_commit_date: 2025-10-29 11:12:20 -0500 (Wed, 29 Oct 2025)