Package: cypress Version: 1.7.0 Command: /home/biocbuild/bbs-3.23-bioc/R/bin/R CMD INSTALL cypress StartedAt: 2025-11-11 16:04:27 -0500 (Tue, 11 Nov 2025) EndedAt: 2025-11-11 16:04:56 -0500 (Tue, 11 Nov 2025) EllapsedTime: 28.9 seconds RetCode: 0 Status: OK