Package: cypress Version: 1.7.0 Command: /home/biocbuild/bbs-3.23-bioc/R/bin/R CMD build --keep-empty-dirs --no-resave-data cypress StartedAt: 2025-11-13 17:05:37 -0500 (Thu, 13 Nov 2025) EndedAt: 2025-11-13 17:10:48 -0500 (Thu, 13 Nov 2025) EllapsedTime: 310.3 seconds RetCode: 0 Status: OK PackageFile: cypress_1.7.0.tar.gz PackageFileSize: 2.616 MiB