Package: cypress Version: 1.7.0 Command: /Library/Frameworks/R.framework/Resources/bin/R CMD INSTALL cypress StartedAt: 2025-11-12 15:45:51 -0500 (Wed, 12 Nov 2025) EndedAt: 2025-11-12 15:45:52 -0500 (Wed, 12 Nov 2025) EllapsedTime: 1.0 seconds RetCode: 1 Status: ERROR