Package: cypress Version: 1.7.0 Command: /Library/Frameworks/R.framework/Resources/bin/R CMD build --keep-empty-dirs --no-resave-data cypress StartedAt: 2025-11-12 16:05:19 -0500 (Wed, 12 Nov 2025) EndedAt: 2025-11-12 16:05:21 -0500 (Wed, 12 Nov 2025) EllapsedTime: 1.0 seconds RetCode: 1 Status: ERROR PackageFile: None PackageFileSize: NA