############################################################################## ############################################################################## ### ### Running command: ### ### /Library/Frameworks/R.framework/Resources/bin/R CMD build --keep-empty-dirs --no-resave-data cypress ### ############################################################################## ############################################################################## * checking for file ‘cypress/DESCRIPTION’ ... OK * preparing ‘cypress’: * checking DESCRIPTION meta-information ... OK * installing the package (it is needed to build vignettes) ----------------------------------- ERROR: dependencies ‘PROPER’, ‘edgeR’ are not available for package ‘cypress’ Perhaps try a variation of: install.packages(c('PROPER', 'edgeR')) * removing ‘/private/var/folders/r0/l4fjk6cj5xj0j3brt4bplpl40000gt/T/RtmpenAbE3/Rinst132015dec067d/cypress’ ----------------------------------- ERROR: package installation failed