Package: cypress Version: 1.7.0 Maintainer: Shilin Yu MaintainerEmail: sy597 at georgetown.edu git_url: https://git.bioconductor.org/packages/cypress git_branch: devel git_last_commit: 40f21f4 git_last_commit_date: 2025-10-29 11:29:05 -0500 (Wed, 29 Oct 2025)