Package: cycle Version: 1.65.0 Command: /home/biocbuild/bbs-3.23-bioc/R/bin/R CMD build --keep-empty-dirs --no-resave-data cycle StartedAt: 2025-11-13 17:05:12 -0500 (Thu, 13 Nov 2025) EndedAt: 2025-11-13 17:05:37 -0500 (Thu, 13 Nov 2025) EllapsedTime: 25.0 seconds RetCode: 0 Status: OK PackageFile: cycle_1.65.0.tar.gz PackageFileSize: 248.2 KiB