Package: cycle Version: 1.65.0 Command: /Library/Frameworks/R.framework/Resources/bin/R CMD INSTALL cycle StartedAt: 2025-11-13 15:07:54 -0500 (Thu, 13 Nov 2025) EndedAt: 2025-11-13 15:07:56 -0500 (Thu, 13 Nov 2025) EllapsedTime: 1.7 seconds RetCode: 0 Status: OK