Package: cycle Version: 1.65.0 Command: /Library/Frameworks/R.framework/Resources/bin/R CMD build --keep-empty-dirs --no-resave-data cycle StartedAt: 2025-11-13 16:06:40 -0500 (Thu, 13 Nov 2025) EndedAt: 2025-11-13 16:06:50 -0500 (Thu, 13 Nov 2025) EllapsedTime: 10.1 seconds RetCode: 0 Status: OK PackageFile: cycle_1.65.0.tar.gz PackageFileSize: 248.2 KiB