Package: cycle Version: 1.65.0 Command: rm -rf cycle.buildbin-libdir && mkdir cycle.buildbin-libdir && /Users/biocbuild/BBS/utils/build-universal.sh cycle_1.65.0.tar.gz /Library/Frameworks/R.framework/Resources/bin/R cycle.buildbin-libdir StartedAt: 2025-11-13 23:33:59 -0500 (Thu, 13 Nov 2025) EndedAt: 2025-11-13 23:34:02 -0500 (Thu, 13 Nov 2025) EllapsedTime: 3.1 seconds RetCode: 0 Status: OK PackageFile: cycle_1.65.0.tgz PackageFileSize: 268.2 KiB