Package: cycle Version: 1.65.0 Maintainer: Matthias Futschik MaintainerEmail: mfutschik at ualg.pt git_url: https://git.bioconductor.org/packages/cycle git_branch: devel git_last_commit: cf91b5c git_last_commit_date: 2025-10-29 10:03:46 -0500 (Wed, 29 Oct 2025)