Package: customProDB Version: 1.51.0 Command: /home/biocbuild/bbs-3.23-bioc/R/bin/R CMD INSTALL customProDB StartedAt: 2025-11-13 15:40:44 -0500 (Thu, 13 Nov 2025) EndedAt: 2025-11-13 15:41:28 -0500 (Thu, 13 Nov 2025) EllapsedTime: 43.2 seconds RetCode: 0 Status: OK