Package: customProDB Version: 1.51.0 Command: /Library/Frameworks/R.framework/Resources/bin/R CMD INSTALL customProDB StartedAt: 2025-11-13 15:21:57 -0500 (Thu, 13 Nov 2025) EndedAt: 2025-11-13 15:22:15 -0500 (Thu, 13 Nov 2025) EllapsedTime: 17.9 seconds RetCode: 0 Status: OK