Package: customCMPdb Version: 1.21.0 Command: /home/biocbuild/bbs-3.23-bioc/R/bin/R CMD build --keep-empty-dirs --no-resave-data customCMPdb StartedAt: 2025-11-13 17:04:30 -0500 (Thu, 13 Nov 2025) EndedAt: 2025-11-13 17:06:22 -0500 (Thu, 13 Nov 2025) EllapsedTime: 112.1 seconds RetCode: 0 Status: OK PackageFile: customCMPdb_1.21.0.tar.gz PackageFileSize: 683.6 KiB