Package: customCMPdb Version: 1.21.0 Command: /Library/Frameworks/R.framework/Resources/bin/R CMD build --keep-empty-dirs --no-resave-data customCMPdb StartedAt: 2025-11-13 16:05:56 -0500 (Thu, 13 Nov 2025) EndedAt: 2025-11-13 16:06:43 -0500 (Thu, 13 Nov 2025) EllapsedTime: 46.5 seconds RetCode: 0 Status: OK PackageFile: customCMPdb_1.21.0.tar.gz PackageFileSize: 694 KiB