Package: customCMPdb Version: 1.21.0 Command: rm -rf customCMPdb.buildbin-libdir && mkdir customCMPdb.buildbin-libdir && /Users/biocbuild/BBS/utils/build-universal.sh customCMPdb_1.21.0.tar.gz /Library/Frameworks/R.framework/Resources/bin/R customCMPdb.buildbin-libdir StartedAt: 2025-11-13 23:33:57 -0500 (Thu, 13 Nov 2025) EndedAt: 2025-11-13 23:34:07 -0500 (Thu, 13 Nov 2025) EllapsedTime: 9.2 seconds RetCode: 0 Status: OK PackageFile: customCMPdb_1.21.0.tgz PackageFileSize: 736.4 KiB