Package: ctc Version: 1.85.0 Command: /home/biocbuild/bbs-3.23-bioc/R/bin/R CMD INSTALL ctc StartedAt: 2025-11-13 15:03:22 -0500 (Thu, 13 Nov 2025) EndedAt: 2025-11-13 15:03:46 -0500 (Thu, 13 Nov 2025) EllapsedTime: 23.7 seconds RetCode: 0 Status: OK